BEGIN:VCALENDAR
PRODID:brasil.gov.agenda
VERSION:1.0
BEGIN:VEVENT
DTSTART:20131028T160000Z
DTEND:20131028T161000Z
DCREATED:20131106T163647Z
UID:Compromisso-98069afce5d949c992133a1281984879
SEQUENCE:0
LAST-MODIFIED:20150622T175204Z
SUMMARY:Cerimônia de anúncio de investimentos do PAC Mobilidade Urbana
LOCATION:Espaço Torresa
PRIORITY:3
TRANSP:0
END:VEVENT
END:VCALENDAR
