BEGIN:VCALENDAR
PRODID:brasil.gov.agenda
VERSION:1.0
BEGIN:VEVENT
DTSTART:20131028T200000Z
DTEND:20131028T201000Z
DCREATED:20131106T164132Z
UID:Compromisso-788c28b09b5b4d8daf8b6159771cf5bb
SEQUENCE:0
LAST-MODIFIED:20150622T175204Z
SUMMARY:Cerimônia de inauguração conjunta da Linha de 500 kV  entre Villa Hayes e a subestação de energia da margem direita de Itaipu Binacional
LOCATION:Itaipu Binacional – Hernandárias/Paraguai
PRIORITY:3
TRANSP:0
END:VEVENT
END:VCALENDAR
