BEGIN:VCALENDAR
PRODID:brasil.gov.agenda
VERSION:1.0
BEGIN:VEVENT
DTSTART:20131028T234000Z
DTEND:20131028T235000Z
DCREATED:20131106T164428Z
UID:Compromisso-33be5296d5f7474a8fa39c165746f622
SEQUENCE:0
LAST-MODIFIED:20150622T175204Z
SUMMARY:Chegada a Brasília
LOCATION:Base Aérea de Brasília
PRIORITY:3
TRANSP:0
END:VEVENT
END:VCALENDAR
