BEGIN:VCALENDAR
PRODID:brasil.gov.agenda
VERSION:1.0
BEGIN:VEVENT
DTSTART:20131028T190000Z
DTEND:20131028T191000Z
DCREATED:20131106T163807Z
UID:Compromisso-74e87625ff5c41fa9ab5ed4511fd34b5
SEQUENCE:0
LAST-MODIFIED:20150622T175204Z
SUMMARY:Chegada a Foz do Iguaçu
LOCATION:Aeroporto Internacional de Foz do Iguaçu
PRIORITY:3
TRANSP:0
END:VEVENT
END:VCALENDAR
