BEGIN:VCALENDAR
PRODID:brasil.gov.agenda
VERSION:1.0
BEGIN:VEVENT
DTSTART:20131028T195000Z
DTEND:20131028T200000Z
DCREATED:20131106T163928Z
UID:Compromisso-f5be2f619a634f09a6f540b1f9f9a7a5
SEQUENCE:0
LAST-MODIFIED:20150622T175204Z
SUMMARY:Chegada à subestação de energia da margem direita de Itaipu Binacional
LOCATION:Itaipu Binacional
PRIORITY:3
TRANSP:0
END:VEVENT
END:VCALENDAR
