BEGIN:VCALENDAR
PRODID:brasil.gov.agenda
VERSION:1.0
BEGIN:VEVENT
DTSTART:20131028T120000Z
DTEND:20131028T121000Z
DCREATED:20131106T171110Z
UID:Compromisso-df3057af8999480db8e90b1b2f457277
SEQUENCE:0
LAST-MODIFIED:20150622T175204Z
SUMMARY:Moreira Franco
LOCATION:Palácio da Alvorada
PRIORITY:3
TRANSP:0
END:VEVENT
END:VCALENDAR
