BEGIN:VCALENDAR
PRODID:brasil.gov.agenda
VERSION:1.0
BEGIN:VEVENT
DTSTART:20131028T215000Z
DTEND:20131028T220000Z
DCREATED:20131106T164835Z
UID:Compromisso-ff5685bea82f452496045de78ad6fb75
SEQUENCE:0
LAST-MODIFIED:20150622T175204Z
SUMMARY:Partida para Brasília
LOCATION:Aeroporto Internacional de Foz do Iguaçu
PRIORITY:3
TRANSP:0
END:VEVENT
END:VCALENDAR
