BEGIN:VCALENDAR
PRODID:brasil.gov.agenda
VERSION:1.0
BEGIN:VEVENT
DTSTART:20131028T143000Z
DTEND:20131028T144000Z
DCREATED:20131106T163507Z
UID:Compromisso-31ca2d70184c4e9ca1d977046952c448
SEQUENCE:0
LAST-MODIFIED:20150622T175204Z
SUMMARY:Partida para Curitiba/PR
LOCATION:Aeroporto de Congonhas
PRIORITY:3
TRANSP:0
END:VEVENT
END:VCALENDAR
