BEGIN:VCALENDAR
PRODID:brasil.gov.agenda
VERSION:1.0
BEGIN:VEVENT
DTSTART:20150319T180000Z
DTEND:20150519T030000Z
DCREATED:20150423T160535Z
UID:Compromisso-d25f40f2f00f4879b0b5e18b112ca94a
SEQUENCE:0
LAST-MODIFIED:20150622T175424Z
SUMMARY:Assinatura de ordem de serviço de implantação do BRT Norte-Sul
LOCATION:Goiânia
PRIORITY:3
TRANSP:0
END:VEVENT
END:VCALENDAR
