BEGIN:VCALENDAR
PRODID:brasil.gov.agenda
VERSION:1.0
BEGIN:VEVENT
DTSTART:20150319T133000Z
DTEND:20150519T030000Z
DCREATED:20150423T160419Z
UID:Compromisso-813d3b703f5f4682bdf884449666fd93
SEQUENCE:0
LAST-MODIFIED:20150622T175424Z
SUMMARY:Cerimônia de anúncio de medidas de modernização do futebol
LOCATION:Palácio do Planalto
PRIORITY:3
TRANSP:0
END:VEVENT
END:VCALENDAR
