BEGIN:VCALENDAR
PRODID:brasil.gov.agenda
VERSION:1.0
BEGIN:VEVENT
DTSTART:20150323T180000Z
DTEND:20150323T030000Z
DCREATED:20150423T162313Z
UID:Compromisso-cbfbdadf05254ebfb3c834aff6fc9aba
SEQUENCE:0
LAST-MODIFIED:20150622T175425Z
SUMMARY:Jeffrey Immelt
LOCATION:Palácio do Planalto
PRIORITY:3
TRANSP:0
END:VEVENT
END:VCALENDAR
