BEGIN:VCALENDAR
PRODID:brasil.gov.agenda
VERSION:1.0
BEGIN:VEVENT
DTSTART:20150323T143000Z
DTEND:20150323T030000Z
DCREATED:20150423T162239Z
UID:Compromisso-38c5416568a14ff0a3e0d30bd22ed403
SEQUENCE:0
LAST-MODIFIED:20150622T175425Z
SUMMARY:Nelson Barbosa
LOCATION:Palácio do Planalto
PRIORITY:3
TRANSP:0
END:VEVENT
END:VCALENDAR
