BEGIN:VCALENDAR
PRODID:brasil.gov.agenda
VERSION:1.0
BEGIN:VEVENT
DTSTART:20150323T120000Z
DTEND:20150323T030000Z
DCREATED:20150423T162136Z
UID:Compromisso-dbec07b05c62471086245a90bce64601
SEQUENCE:0
LAST-MODIFIED:20150622T175425Z
SUMMARY:Reunião de Coordenação Política do Governo
LOCATION:Palácio do Planalto
PRIORITY:3
TRANSP:0
END:VEVENT
END:VCALENDAR
