BEGIN:VCALENDAR
PRODID:brasil.gov.agenda
VERSION:1.0
BEGIN:VEVENT
DTSTART:20131001T140000Z
DTEND:20131001T140000Z
DCREATED:20131025T142543Z
UID:Compromisso-1ab44e0c2b4d4e4e8dccbd1184b813d9
SEQUENCE:0
LAST-MODIFIED:20170328T204501Z
SUMMARY:Andreas Renschler
PRIORITY:3
TRANSP:0
END:VEVENT
END:VCALENDAR
