BEGIN:VCALENDAR
PRODID:brasil.gov.agenda
VERSION:1.0
BEGIN:VEVENT
DTSTART:20131001T180000Z
DTEND:20131001T180000Z
DCREATED:20131025T142627Z
UID:Compromisso-0df7f54d238542789159fdf29c3f82f6
SEQUENCE:0
LAST-MODIFIED:20170328T204501Z
SUMMARY:Renan Calheiros
PRIORITY:3
TRANSP:0
END:VEVENT
END:VCALENDAR
