BEGIN:VCALENDAR
PRODID:brasil.gov.agenda
VERSION:1.0
BEGIN:VEVENT
DTSTART:20131001T130000Z
DTEND:20131001T130000Z
DCREATED:20131025T142439Z
UID:Compromisso-67cbbcbd48d44b3fbcf445668c3e1e7a
SEQUENCE:0
LAST-MODIFIED:20170328T204501Z
SUMMARY:Fernando Bezerra
LOCATION:Palácio do Planalto
PRIORITY:3
TRANSP:0
END:VEVENT
END:VCALENDAR
