BEGIN:VCALENDAR
PRODID:brasil.gov.agenda
VERSION:1.0
BEGIN:VEVENT
DTSTART:20131003T140000Z
DTEND:20131003T140000Z
DCREATED:20131025T143600Z
UID:Compromisso-d48241bc3de1445a9281b1f0bd2f3fc6
SEQUENCE:0
LAST-MODIFIED:20170328T204503Z
SUMMARY:Edison Lobão
LOCATION:Palácio do Planalto
PRIORITY:3
TRANSP:0
END:VEVENT
END:VCALENDAR
