BEGIN:VCALENDAR
PRODID:brasil.gov.agenda
VERSION:1.0
BEGIN:VEVENT
DTSTART:20131003T180000Z
DTEND:20131003T180000Z
DCREATED:20131025T143649Z
UID:Compromisso-0b9392ceb86d407dafe7c7651c1a4287
SEQUENCE:0
LAST-MODIFIED:20170328T204503Z
SUMMARY:Thomas Schmall
PRIORITY:3
TRANSP:0
END:VEVENT
END:VCALENDAR
