BEGIN:VCALENDAR
PRODID:brasil.gov.agenda
VERSION:1.0
BEGIN:VEVENT
DTSTART:20131003T200000Z
DTEND:20131003T200000Z
DCREATED:20131025T143728Z
UID:Compromisso-d7484ac162bb48cf867d5c7e156e2928
SEQUENCE:0
LAST-MODIFIED:20170328T204503Z
SUMMARY:Leônidas Cristino
PRIORITY:3
TRANSP:0
END:VEVENT
END:VCALENDAR
