BEGIN:VCALENDAR
PRODID:brasil.gov.agenda
VERSION:1.0
BEGIN:VEVENT
DTSTART:20131003T123000Z
DTEND:20131003T123000Z
DCREATED:20131025T143518Z
UID:Compromisso-fa6ec24aca7f4114a7b01469c4f9157d
SEQUENCE:0
LAST-MODIFIED:20170328T204503Z
SUMMARY:Helena Chagas
LOCATION:Palácio da Alvorada
PRIORITY:3
TRANSP:0
END:VEVENT
END:VCALENDAR
