BEGIN:VCALENDAR
PRODID:brasil.gov.agenda
VERSION:1.0
BEGIN:VEVENT
DTSTART:20131008T200000Z
DTEND:20131008T200000Z
DCREATED:20131025T144835Z
UID:Compromisso-4cab593236194ef88a07bbc91c111ca0
SEQUENCE:0
LAST-MODIFIED:20170328T204505Z
SUMMARY:Abertura da exposição "Mulheres do Brasil" \, da artista plástica Eliana Kertész
PRIORITY:3
TRANSP:0
END:VEVENT
END:VCALENDAR
