BEGIN:VCALENDAR
PRODID:brasil.gov.agenda
VERSION:1.0
BEGIN:VEVENT
DTSTART:20131008T130000Z
DTEND:20131008T130000Z
DCREATED:20131025T144657Z
UID:Compromisso-2e77eff206e84563a6bfa6d5748f3095
SEQUENCE:0
LAST-MODIFIED:20170328T204505Z
SUMMARY:Abertura da III Conferência Global sobre Trabalho Infantil
LOCATION:Royal Tulip Alvorada Hotel - Brasília/DF
PRIORITY:3
TRANSP:0
END:VEVENT
END:VCALENDAR
