BEGIN:VCALENDAR
PRODID:brasil.gov.agenda
VERSION:1.0
BEGIN:VEVENT
DTSTART:20131008T180000Z
DTEND:20131008T180000Z
DCREATED:20131025T144754Z
UID:Compromisso-cb0bc0c6b7c54093b9842efe80b853a5
SEQUENCE:0
LAST-MODIFIED:20170328T204505Z
SUMMARY:Encontro com empresárias
PRIORITY:3
TRANSP:0
END:VEVENT
END:VCALENDAR
