BEGIN:VCALENDAR
PRODID:brasil.gov.agenda
VERSION:1.0
BEGIN:VEVENT
DTSTART:20131008T143000Z
DTEND:20131008T143000Z
DCREATED:20131025T144732Z
UID:Compromisso-55e0e7202afa48ad8a772aac7954a71b
SEQUENCE:0
LAST-MODIFIED:20170328T204505Z
SUMMARY:Guido Mantega
LOCATION:Palácio do Planalto
PRIORITY:3
TRANSP:0
END:VEVENT
END:VCALENDAR
