BEGIN:VCALENDAR
PRODID:brasil.gov.agenda
VERSION:1.0
BEGIN:VEVENT
DTSTART:20131009T180000Z
DTEND:20131009T180000Z
DCREATED:20131025T145121Z
UID:Compromisso-11cb00ba0c5a40859190500c12141c49
SEQUENCE:0
LAST-MODIFIED:20170328T204505Z
SUMMARY:Cerimônia de sanção da MP 615
LOCATION:Núcleo de apoio aos taxistas – Sinpetaxi - Aeroporto Internacional de Brasília/DF
PRIORITY:3
TRANSP:0
END:VEVENT
END:VCALENDAR
