BEGIN:VCALENDAR
PRODID:brasil.gov.agenda
VERSION:1.0
BEGIN:VEVENT
DTSTART:20131009T190000Z
DTEND:20131009T190000Z
DCREATED:20131025T145158Z
UID:Compromisso-1ff6f42f1ec6444ab23c30d4df7b6e63
SEQUENCE:0
LAST-MODIFIED:20170328T204506Z
SUMMARY:Guido Mantega
LOCATION:Palácio do Planalto
PRIORITY:3
TRANSP:0
END:VEVENT
END:VCALENDAR
