BEGIN:VCALENDAR
PRODID:brasil.gov.agenda
VERSION:1.0
BEGIN:VEVENT
DTSTART:20131009T140000Z
DTEND:20131009T140000Z
DCREATED:20131025T145035Z
UID:Compromisso-b61fd33c0f8b49668dbeb71016dcbdf8
SEQUENCE:0
LAST-MODIFIED:20170328T204505Z
SUMMARY:Fadi Chehadé
LOCATION:Palácio do Planalto
PRIORITY:3
TRANSP:0
END:VEVENT
END:VCALENDAR
