BEGIN:VCALENDAR
PRODID:brasil.gov.agenda
VERSION:1.0
BEGIN:VEVENT
DTSTART:20131009T130000Z
DTEND:20131009T130000Z
DCREATED:20131025T144949Z
UID:Compromisso-c58d289ad30f4f289038ab317c0baa90
SEQUENCE:0
LAST-MODIFIED:20170328T204505Z
SUMMARY:Sessão solene em homenagem aos 25 anos da promulgação da Constituição Federal
LOCATION:Plenário Ulysses Guimarães - Câmara dos Deputados
PRIORITY:3
TRANSP:0
END:VEVENT
END:VCALENDAR
