BEGIN:VCALENDAR
PRODID:brasil.gov.agenda
VERSION:1.0
BEGIN:VEVENT
DTSTART:20131010T130000Z
DTEND:20131010T130000Z
DCREATED:20131025T145411Z
UID:Compromisso-6ad08e212a1a47b1b31e340fa620f94c
SEQUENCE:0
LAST-MODIFIED:20170328T204506Z
SUMMARY:Renato Rabelo
PRIORITY:3
TRANSP:0
END:VEVENT
END:VCALENDAR
