BEGIN:VCALENDAR
PRODID:brasil.gov.agenda
VERSION:1.0
BEGIN:VEVENT
DTSTART:20131010T180000Z
DTEND:20131010T180000Z
DCREATED:20131025T145501Z
UID:Compromisso-49ced223f8084226a906d34bf5bc1dc8
SEQUENCE:0
LAST-MODIFIED:20170328T204506Z
SUMMARY:Marcelo Odebrecht
PRIORITY:3
TRANSP:0
END:VEVENT
END:VCALENDAR
