BEGIN:VCALENDAR
PRODID:brasil.gov.agenda
VERSION:1.0
BEGIN:VEVENT
DTSTART:20131010T120000Z
DTEND:20131010T120000Z
DCREATED:20131025T145330Z
UID:Compromisso-dd7d359b87e941f2af7c00381c04d567
SEQUENCE:0
LAST-MODIFIED:20170328T204506Z
SUMMARY:César Borges
LOCATION:Palácio do Planalto
PRIORITY:3
TRANSP:0
END:VEVENT
END:VCALENDAR
