BEGIN:VCALENDAR
PRODID:brasil.gov.agenda
VERSION:1.0
BEGIN:VEVENT
DTSTART:20131011T200000Z
DTEND:20131011T200000Z
DCREATED:20131025T145814Z
UID:Compromisso-ac7f68301fef46a9a0da4ac5d6939840
SEQUENCE:0
LAST-MODIFIED:20170328T204507Z
SUMMARY:Cerimônia de formatura de alunos do Pronatec
LOCATION:Centro de Convenções Fenac - Novo Hamburgo
PRIORITY:3
TRANSP:0
END:VEVENT
END:VCALENDAR
