BEGIN:VCALENDAR
PRODID:brasil.gov.agenda
VERSION:1.0
BEGIN:VEVENT
DTSTART:20131011T181500Z
DTEND:20131011T181500Z
DCREATED:20131025T145747Z
UID:Compromisso-c46fa903f7494c2cb9580cfba2edea0a
SEQUENCE:0
LAST-MODIFIED:20170328T204506Z
SUMMARY:Cerimônia de inauguração de Unidades de Educação Infantil
LOCATION:Escola Municipal Eugênio Nelson Ritzel - Novo Hamburgo
PRIORITY:3
TRANSP:0
END:VEVENT
END:VCALENDAR
