BEGIN:VCALENDAR
PRODID:brasil.gov.agenda
VERSION:1.0
BEGIN:VEVENT
DTSTART:20131011T165000Z
DTEND:20131011T165000Z
DCREATED:20131025T145650Z
UID:Compromisso-cb58d8274dad4ebdad3f2a69903983bb
SEQUENCE:0
LAST-MODIFIED:20170328T204506Z
SUMMARY:Chegada a Canoas
LOCATION:Base Aérea de Canoas
PRIORITY:3
TRANSP:0
END:VEVENT
END:VCALENDAR
