BEGIN:VCALENDAR
PRODID:brasil.gov.agenda
VERSION:1.0
BEGIN:VEVENT
DTSTART:20131011T221500Z
DTEND:20131011T221500Z
DCREATED:20131025T145902Z
UID:Compromisso-d6aa95d83b5a41f7871605d1fbe34898
SEQUENCE:0
LAST-MODIFIED:20170328T204507Z
SUMMARY:Chegada a Porto Alegre/RS
PRIORITY:3
TRANSP:0
END:VEVENT
END:VCALENDAR
