BEGIN:VCALENDAR
PRODID:brasil.gov.agenda
VERSION:1.0
BEGIN:VEVENT
DTSTART:20131011T170000Z
DTEND:20131011T170000Z
DCREATED:20131025T145716Z
UID:Compromisso-31d56d8371e34a25bf5aa1dbd7b77663
SEQUENCE:0
LAST-MODIFIED:20170328T204506Z
SUMMARY:Entrevista a emissoras locais de rádio
LOCATION:Base Aérea de Canoas
PRIORITY:3
TRANSP:0
END:VEVENT
END:VCALENDAR
