BEGIN:VCALENDAR
PRODID:brasil.gov.agenda
VERSION:1.0
BEGIN:VEVENT
DTSTART:20131011T143000Z
DTEND:20131011T143000Z
DCREATED:20131025T145613Z
UID:Compromisso-aa7fb4d246ea445bac75886969b1f43d
SEQUENCE:0
LAST-MODIFIED:20170328T204506Z
SUMMARY:Partida para Canoas/RS
LOCATION:Base Aérea de Brasília
PRIORITY:3
TRANSP:0
END:VEVENT
END:VCALENDAR
