BEGIN:VCALENDAR
PRODID:brasil.gov.agenda
VERSION:1.0
BEGIN:VEVENT
DTSTART:20131011T220000Z
DTEND:20131011T220000Z
DCREATED:20131025T145836Z
UID:Compromisso-85c9cefb36f34ba699aa13a9a8ab4836
SEQUENCE:0
LAST-MODIFIED:20170328T204507Z
SUMMARY:Partida para Porto Alegre
PRIORITY:3
TRANSP:0
END:VEVENT
END:VCALENDAR
