BEGIN:VCALENDAR
PRODID:brasil.gov.agenda
VERSION:1.0
BEGIN:VEVENT
DTSTART:20131012T130000Z
DTEND:20131012T130000Z
DCREATED:20131025T150013Z
UID:Compromisso-5ede47441392409b88d0c6df0db7b91a
SEQUENCE:0
LAST-MODIFIED:20170328T204507Z
SUMMARY:Cerimônia de anúncio de investimentos do PAC Mobilidade Urbana e entrega de 57 máquinas motoniveladoras
LOCATION:Assembleia Legislativa do Rio Grande do Sul - Porto Alegre
PRIORITY:3
TRANSP:0
END:VEVENT
END:VCALENDAR
