BEGIN:VCALENDAR
PRODID:brasil.gov.agenda
VERSION:1.0
BEGIN:VEVENT
DTSTART:20131014T130000Z
DTEND:20131014T130000Z
DCREATED:20131025T150313Z
UID:Compromisso-5e0b88804ecc45ed9aad814b972f1881
SEQUENCE:0
LAST-MODIFIED:20170328T204508Z
SUMMARY:Cerimônia de inauguração da fábrica de transformadores de corrente e de potencial da Balteau S/A
LOCATION:Distrito Industrial - Itajubá/MG
PRIORITY:3
TRANSP:0
END:VEVENT
END:VCALENDAR
