BEGIN:VCALENDAR
PRODID:brasil.gov.agenda
VERSION:1.0
BEGIN:VEVENT
DTSTART:20131014T161000Z
DTEND:20131014T161000Z
DCREATED:20131025T150414Z
UID:Compromisso-6123a4c5c45b4673b16dc7808cac91b8
SEQUENCE:0
LAST-MODIFIED:20170328T204508Z
SUMMARY:Chegada a Brasília/DF
LOCATION:Base Aérea de Brasília
PRIORITY:3
TRANSP:0
END:VEVENT
END:VCALENDAR
