BEGIN:VCALENDAR
PRODID:brasil.gov.agenda
VERSION:1.0
BEGIN:VEVENT
DTSTART:20131014T121000Z
DTEND:20131014T121000Z
DCREATED:20131025T150233Z
UID:Compromisso-e690012474ac45c382019fd7926bdd21
SEQUENCE:0
LAST-MODIFIED:20170328T204508Z
SUMMARY:Chegada a São José dos Campos
LOCATION:Aeroporto Professor Urbano Ernesto Stumpf
PRIORITY:3
TRANSP:0
END:VEVENT
END:VCALENDAR
