BEGIN:VCALENDAR
PRODID:brasil.gov.agenda
VERSION:1.0
BEGIN:VEVENT
DTSTART:20131014T150000Z
DTEND:20131014T150000Z
DCREATED:20131025T150350Z
UID:Compromisso-7cfd141448ef4878872021cbe782bd62
SEQUENCE:0
LAST-MODIFIED:20170328T204508Z
SUMMARY:Partida para Brasília
LOCATION:Aeroporto Professor Urbano Ernesto Stumpf - São José dos Campos/SP
PRIORITY:3
TRANSP:0
END:VEVENT
END:VCALENDAR
