BEGIN:VCALENDAR
PRODID:brasil.gov.agenda
VERSION:1.0
BEGIN:VEVENT
DTSTART:20131014T110000Z
DTEND:20131014T110000Z
DCREATED:20131025T150202Z
UID:Compromisso-ec0854c26d2149119dd4e0e007026008
SEQUENCE:0
LAST-MODIFIED:20170328T204507Z
SUMMARY:Partida para São José dos Campos/SP
LOCATION:Base Aérea de Brasília
PRIORITY:3
TRANSP:0
END:VEVENT
END:VCALENDAR
