BEGIN:VCALENDAR
PRODID:brasil.gov.agenda
VERSION:1.0
BEGIN:VEVENT
DTSTART:20131014T190000Z
DTEND:20131014T190000Z
DCREATED:20131025T150527Z
UID:Compromisso-ae4c0157bb4b4f6d84e1a825c12e583e
SEQUENCE:0
LAST-MODIFIED:20170328T204508Z
SUMMARY:Miriam Belchior
PRIORITY:3
TRANSP:0
END:VEVENT
END:VCALENDAR
