BEGIN:VCALENDAR
PRODID:brasil.gov.agenda
VERSION:1.0
BEGIN:VEVENT
DTSTART:20131014T183000Z
DTEND:20131014T183000Z
DCREATED:20131025T150445Z
UID:Compromisso-fa0dfccc6b434581a768fecc24899683
SEQUENCE:0
LAST-MODIFIED:20170328T204508Z
SUMMARY:Edison Lobão
LOCATION:Palácio do Planalto
PRIORITY:3
TRANSP:0
END:VEVENT
END:VCALENDAR
