BEGIN:VCALENDAR
PRODID:brasil.gov.agenda
VERSION:1.0
BEGIN:VEVENT
DTSTART:20131015T154500Z
DTEND:20131015T154500Z
DCREATED:20131025T150956Z
UID:Compromisso-d4a2ee3b94f74e599b67b9501a2f4b1e
SEQUENCE:0
LAST-MODIFIED:20170328T204509Z
SUMMARY:Cerimônia de anúncio de investimentos do PAC Mobilidade Urbana e assinatura dos contratos de metrô e de corredores
LOCATION:Gran Hotel Stella Maris Resort & Conventions - Stella Maris
PRIORITY:3
TRANSP:0
END:VEVENT
END:VCALENDAR
