BEGIN:VCALENDAR
PRODID:brasil.gov.agenda
VERSION:1.0
BEGIN:VEVENT
DTSTART:20131015T124500Z
DTEND:20131015T124500Z
DCREATED:20131025T150727Z
UID:Compromisso-015a0d9c08634b8ba7d4f2be5a9acbe8
SEQUENCE:0
LAST-MODIFIED:20170328T204509Z
SUMMARY:Cerimônia de entrega de 1.740 unidades habitacionais dos Residenciais Acácia\, Ipê\, Pau Brasil e Jequibitá\, do Programa Minha Casa Minha Vida II
LOCATION:Residencial Acácia
PRIORITY:3
TRANSP:0
END:VEVENT
END:VCALENDAR
