BEGIN:VCALENDAR
PRODID:brasil.gov.agenda
VERSION:1.0
BEGIN:VEVENT
DTSTART:20131015T183000Z
DTEND:20131015T183000Z
DCREATED:20131025T151059Z
UID:Compromisso-8c9f90c451ba4af1b251fb2100899e89
SEQUENCE:0
LAST-MODIFIED:20170328T204509Z
SUMMARY:Chegada a Brasília/DF
LOCATION:Base Aérea de Brasília
PRIORITY:3
TRANSP:0
END:VEVENT
END:VCALENDAR
