BEGIN:VCALENDAR
PRODID:brasil.gov.agenda
VERSION:1.0
BEGIN:VEVENT
DTSTART:20131015T151500Z
DTEND:20131015T151500Z
DCREATED:20131025T150918Z
UID:Compromisso-125396f492bc4e43b6cbeace3d63012e
SEQUENCE:0
LAST-MODIFIED:20170328T204509Z
SUMMARY:Chegada a Salvador
LOCATION:Base Aérea de Salvador
PRIORITY:3
TRANSP:0
END:VEVENT
END:VCALENDAR
